BEGIN:VCALENDAR
VERSION:2.0
PRODID:-//District of Oak Bay - ECPv6.15.18//NONSGML v1.0//EN
CALSCALE:GREGORIAN
METHOD:PUBLISH
X-ORIGINAL-URL:https://www.oakbay.ca
X-WR-CALDESC:Events for District of Oak Bay
REFRESH-INTERVAL;VALUE=DURATION:PT1H
X-Robots-Tag:noindex
X-PUBLISHED-TTL:PT1H
BEGIN:VTIMEZONE
TZID:America/Toronto
BEGIN:DAYLIGHT
TZOFFSETFROM:-0500
TZOFFSETTO:-0400
TZNAME:EDT
DTSTART:20250309T070000
END:DAYLIGHT
BEGIN:STANDARD
TZOFFSETFROM:-0400
TZOFFSETTO:-0500
TZNAME:EST
DTSTART:20251102T060000
END:STANDARD
BEGIN:DAYLIGHT
TZOFFSETFROM:-0500
TZOFFSETTO:-0400
TZNAME:EDT
DTSTART:20260308T070000
END:DAYLIGHT
BEGIN:STANDARD
TZOFFSETFROM:-0400
TZOFFSETTO:-0500
TZNAME:EST
DTSTART:20261101T060000
END:STANDARD
BEGIN:DAYLIGHT
TZOFFSETFROM:-0500
TZOFFSETTO:-0400
TZNAME:EDT
DTSTART:20270314T070000
END:DAYLIGHT
BEGIN:STANDARD
TZOFFSETFROM:-0400
TZOFFSETTO:-0500
TZNAME:EST
DTSTART:20271107T060000
END:STANDARD
END:VTIMEZONE
BEGIN:VEVENT
DTSTART;TZID=America/Toronto:20260422T130000
DTEND;TZID=America/Toronto:20260422T143000
DTSTAMP:20260421T120455
CREATED:20260331T211833Z
LAST-MODIFIED:20260420T225126Z
UID:10000332-1776862800-1776868200@www.oakbay.ca
SUMMARY:Free Talks: Making the Most of Your Memories
DESCRIPTION:Making the Most of Your Memories \nWednesday\, April 22 | 1:00 p.m. to 2:30 p.m. \nLocation: Monterey Recreation Centre – Dogwood Room \nGuest Speaker: Shana Lee Gibson\, Documentary Filmmaker\, Visual Strategist and Writer \nMeet Shana Lee Gibson\, an award-winning documentary filmmaker\, storyteller\, and writer. her passion is to create inspiring\, customized videos that tell your story with honesty\, warmth\, and joy. Discover how preserving your favourite memories on video can help create a lasting legacy for your loved ones to enjoy. \nAdvance registration required\, please contact Reception 250-370-7300
URL:https://www.oakbay.ca/event/free-talks-making-the-most-of-your-memories/
LOCATION:Monterey Recreation Centre\, 1442 Monterey Avenue\, Victoria\, BC\, Oak Bay\, British Columbia\, Canada
CATEGORIES:Parks, Recreation & Culture Events
ATTACH;FMTTYPE=image/jpeg:https://www.oakbay.ca/wp-content/uploads/2025/03/Monterey-Centre-Oak-Bay-Rec-May-22-2024-©KevinLightPhoto-_EV29522.jpg
END:VEVENT
BEGIN:VEVENT
DTSTART;TZID=America/Toronto:20260422T150000
DTEND;TZID=America/Toronto:20260422T170000
DTSTAMP:20260421T120455
CREATED:20260309T162853Z
LAST-MODIFIED:20260309T162938Z
UID:10000257-1776870000-1776877200@www.oakbay.ca
SUMMARY:Middle School Days at the Oak Bay Youth Centre
DESCRIPTION:Middle School Days at the Oak Bay Youth Centre \n\nWednesdays\, 3:00 to 5:00 p.m.\nNeighbourhood Learning Centre (2121 Cadboro Bay Rd) \nA safe\, supervised\, and welcoming after‑school drop‑in just for middle school students. Kids can play games\, meet friends\, or relax in a supportive space at no cost and with no registration required.
URL:https://www.oakbay.ca/event/middle-school-days-at-the-oak-bay-youth-centre/2026-04-22/
LOCATION:Oak Bay Youth Centre\, 2121 Cadboro Bay Rd\, Victoria\, BC\, Canada
CATEGORIES:Parks, Recreation & Culture Events
ATTACH;FMTTYPE=image/jpeg:https://www.oakbay.ca/wp-content/uploads/2026/03/Youth-Leaders-Oak-Bay-Rec-July-2021-©KevinLightPhoto-_90I3264-2.jpg
END:VEVENT
BEGIN:VEVENT
DTSTART;TZID=America/Toronto:20260426T133000
DTEND;TZID=America/Toronto:20260426T150000
DTSTAMP:20260421T120455
CREATED:20260331T210858Z
LAST-MODIFIED:20260331T210858Z
UID:10000330-1777210200-1777215600@www.oakbay.ca
SUMMARY:Monterey Open Mic - April 2026
DESCRIPTION:Monterey Open Mic – April 2026 \nSunday\, April 26\, 1:30 to 3:00 p.m. \nMonterey Recreation Centre – Lobby \nJoin Open Mic on the last Sunday of the month and enjoy the sounds of local musical talents. Musicians are asked to arrive early and check-in with the session leader at 1:00pm.
URL:https://www.oakbay.ca/event/monterey-open-mic-april-2026/
CATEGORIES:Parks, Recreation & Culture Events
ATTACH;FMTTYPE=image/jpeg:https://www.oakbay.ca/wp-content/uploads/2026/01/Oak_Bay_Monterey_©KRL-2025-09-24-_M1A8997.jpg
END:VEVENT
BEGIN:VEVENT
DTSTART;TZID=America/Toronto:20260429T110000
DTEND;TZID=America/Toronto:20260429T115000
DTSTAMP:20260421T120455
CREATED:20260306T190905Z
LAST-MODIFIED:20260307T194457Z
UID:10000234-1777460400-1777463400@www.oakbay.ca
SUMMARY:International Dance Day Workshop 2026
DESCRIPTION:Wednesday\, April 29\, 2026 | 11:00 a.m. to 11:50 a.m.\nCost: $20\nLocation: Monterey Recreation Centre – Garry Oak Room \nApril 29 is International Dance Day! Put your dancing shoes on and get ready for an exhilarating morning. Dancing is universal\, woven into virtually every society all over the world. A beautiful expression of humanity that transcends borders\, dance brings us together! This special workshop welcomes all levels\, from first‑time dancers to those with experience. \nSign up online or with Monterey Recreation Centre Reception by visiting in-person or phoning 250-370-7300.
URL:https://www.oakbay.ca/event/international-dance-day-workshop-2026/
LOCATION:Monterey Recreation Centre\, 1442 Monterey Avenue\, Victoria\, BC\, Oak Bay\, British Columbia\, Canada
CATEGORIES:Parks, Recreation & Culture Events
ATTACH;FMTTYPE=image/jpeg:https://www.oakbay.ca/wp-content/uploads/2026/03/Monterey-Rec-Centre-May-28-2019-┬⌐KevinLight-_EVL2083-scaled.jpg
END:VEVENT
BEGIN:VEVENT
DTSTART;TZID=America/Toronto:20260429T150000
DTEND;TZID=America/Toronto:20260429T163000
DTSTAMP:20260421T120455
CREATED:20260331T220201Z
LAST-MODIFIED:20260331T220201Z
UID:10000333-1777474800-1777480200@www.oakbay.ca
SUMMARY:Free Talks: ICBC Mature Drivers Education
DESCRIPTION:ICBC Mature Drivers Education \nWednesday\, April 29 | 3:00 p.m. to 4:30 p.m. \nLocation: Monterey Recreation Centre – Douglas Fir Room \nGuest Speaker: Colleen Woodger\, Regional Road Safety Coordinator \nLearn what is important about driving today. Topics covered include: self-assessments\, assessing driver fitness\, the enhanced road assessment (ERA)\, tips for seniors and staying mobile. \nAdvance registration required\, please contact Reception 250-370-7300
URL:https://www.oakbay.ca/event/free-talks-icbc-mature-drivers-education/
LOCATION:Monterey Recreation Centre\, 1442 Monterey Avenue\, Victoria\, BC\, Oak Bay\, British Columbia\, Canada
CATEGORIES:Parks, Recreation & Culture Events
ATTACH;FMTTYPE=image/jpeg:https://www.oakbay.ca/wp-content/uploads/2025/03/Monterey-Centre-Oak-Bay-Rec-May-22-2024-©KevinLightPhoto-_EV29522.jpg
END:VEVENT
BEGIN:VEVENT
DTSTART;TZID=America/Toronto:20260429T150000
DTEND;TZID=America/Toronto:20260429T170000
DTSTAMP:20260421T120455
CREATED:20260309T162853Z
LAST-MODIFIED:20260309T162938Z
UID:10000258-1777474800-1777482000@www.oakbay.ca
SUMMARY:Middle School Days at the Oak Bay Youth Centre
DESCRIPTION:Middle School Days at the Oak Bay Youth Centre \n\nWednesdays\, 3:00 to 5:00 p.m.\nNeighbourhood Learning Centre (2121 Cadboro Bay Rd) \nA safe\, supervised\, and welcoming after‑school drop‑in just for middle school students. Kids can play games\, meet friends\, or relax in a supportive space at no cost and with no registration required.
URL:https://www.oakbay.ca/event/middle-school-days-at-the-oak-bay-youth-centre/2026-04-29/
LOCATION:Oak Bay Youth Centre\, 2121 Cadboro Bay Rd\, Victoria\, BC\, Canada
CATEGORIES:Parks, Recreation & Culture Events
ATTACH;FMTTYPE=image/jpeg:https://www.oakbay.ca/wp-content/uploads/2026/03/Youth-Leaders-Oak-Bay-Rec-July-2021-©KevinLightPhoto-_90I3264-2.jpg
END:VEVENT
END:VCALENDAR