BEGIN:VCALENDAR
VERSION:2.0
PRODID:-//District of Oak Bay - ECPv6.15.18//NONSGML v1.0//EN
CALSCALE:GREGORIAN
METHOD:PUBLISH
X-WR-CALNAME:District of Oak Bay
X-ORIGINAL-URL:https://www.oakbay.ca
X-WR-CALDESC:Events for District of Oak Bay
REFRESH-INTERVAL;VALUE=DURATION:PT1H
X-Robots-Tag:noindex
X-PUBLISHED-TTL:PT1H
BEGIN:VTIMEZONE
TZID:America/Toronto
BEGIN:DAYLIGHT
TZOFFSETFROM:-0500
TZOFFSETTO:-0400
TZNAME:EDT
DTSTART:20220313T070000
END:DAYLIGHT
BEGIN:STANDARD
TZOFFSETFROM:-0400
TZOFFSETTO:-0500
TZNAME:EST
DTSTART:20221106T060000
END:STANDARD
BEGIN:DAYLIGHT
TZOFFSETFROM:-0500
TZOFFSETTO:-0400
TZNAME:EDT
DTSTART:20230312T070000
END:DAYLIGHT
BEGIN:STANDARD
TZOFFSETFROM:-0400
TZOFFSETTO:-0500
TZNAME:EST
DTSTART:20231105T060000
END:STANDARD
BEGIN:DAYLIGHT
TZOFFSETFROM:-0500
TZOFFSETTO:-0400
TZNAME:EDT
DTSTART:20240310T070000
END:DAYLIGHT
BEGIN:STANDARD
TZOFFSETFROM:-0400
TZOFFSETTO:-0500
TZNAME:EST
DTSTART:20241103T060000
END:STANDARD
BEGIN:DAYLIGHT
TZOFFSETFROM:-0500
TZOFFSETTO:-0400
TZNAME:EDT
DTSTART:20250309T070000
END:DAYLIGHT
BEGIN:STANDARD
TZOFFSETFROM:-0400
TZOFFSETTO:-0500
TZNAME:EST
DTSTART:20251102T060000
END:STANDARD
END:VTIMEZONE
BEGIN:VEVENT
DTSTART;TZID=America/Toronto:20241124T140000
DTEND;TZID=America/Toronto:20241124T170000
DTSTAMP:20260419T173442
CREATED:20241118T112641Z
LAST-MODIFIED:20241118T112642Z
UID:10000014-1732456800-1732467600@www.oakbay.ca
SUMMARY:Christmas in Oak Bay
DESCRIPTION:The Oak Bay Christmas Festival is organized annually by the Oak Bay Business Improvement Association.
URL:https://www.oakbay.ca/event/christmas-in-oak-bay-2/
CATEGORIES:Annual Events
ATTACH;FMTTYPE=image/jpeg:https://www.oakbay.ca/wp-content/uploads/2024/11/oakbay-_christmas.jpeg
END:VEVENT
BEGIN:VEVENT
DTSTART;TZID=America/Toronto:20241012T080000
DTEND;TZID=America/Toronto:20241013T130000
DTSTAMP:20260419T173442
CREATED:20241118T112517Z
LAST-MODIFIED:20241118T112517Z
UID:10000013-1728720000-1728824400@www.oakbay.ca
SUMMARY:Royal Victoria Marathon
DESCRIPTION:This seaside marathon is held each October and runs much of the way through the scenic streets of Oak Bay. Thousands of spectators and supporters come out to cheer the runners in their test of endurance. \nThe Victoria Marathon acts as the BC Marathon Championships and is also a certified (and fast!) Boston Marathon qualifying race. For those interested in running\, volunteering\, or watching\, visit the Victoria Marathon Website.
URL:https://www.oakbay.ca/event/royal-victoria-marathon/
CATEGORIES:Annual Events
END:VEVENT
BEGIN:VEVENT
DTSTART;TZID=America/Toronto:20240721T080000
DTEND;TZID=America/Toronto:20240721T150000
DTSTAMP:20260419T173442
CREATED:20241118T070956Z
LAST-MODIFIED:20241118T070956Z
UID:10000007-1721548800-1721574000@www.oakbay.ca
SUMMARY:Collector Car Festival
DESCRIPTION:he annual Oak Bay Collector Car Festival returns on July 21\, 2024. Historically\, this event attracts rare and unique cars\, and is one of the most popular vehicles displays on the Island event calendar. \nCollector car owners and enthusiasts of all makes and vintages are invited to bring their cars to Oak Bay Avenue to be enjoyed by visitors and locals alike. Cars are placed in sections along 5 blocks of Oak Bay Avenue\, Monterey to Mitchell Street plus a portion of Hampshire Rd. \nMany of the local restaurants and businesses will be open especially for the event. There will also be a BBQ put on by the St. Patrick’s Church\, as well as a number of food trucks to choose from in the parking lot behind the municipal hall. There will be ribbons awarded in a variety of categories\, and great entertainment as well. \nThis is a non-profit community event for everyone to enjoy seeing and talking to owners of a diverse collection of locally owned cars. If interested in volunteering\, please contact us at oakbayccfvolunteer@gmail.com. \nThis year\, online pre-registration is mandatory to guarantee your spot for $25 (plus fees).  Questions can be directed to oakbayccf@gmail.com \nNew this year\, exhibitors will be advised before the show which of 2 entrances they should use. Along with 100% pre-registration\, this should help expedite entry.   Groups of cars that would like to park together are asked to arrive as a group. Note that entrances will not open until 8:00am this year. Volunteers will escort cars to their location where they will be on display until 3:00pm. \nThis is a non-profit community event for everyone to enjoy seeing and talking to owners of a diverse collection of locally owned cars. If interested in volunteering\, please contact us at obccfvolunteer@gmail.com.
URL:https://www.oakbay.ca/event/collector-car-festival/
LOCATION:Oak Bay Avenue\, Monterey to Mitchell Street plus a portion of Hampshire Rd.\, Victoria\, BC\, Canada
CATEGORIES:Annual Events
ATTACH;FMTTYPE=image/jpeg:https://www.oakbay.ca/wp-content/uploads/2024/11/oak_bay_car_show.jpeg
END:VEVENT
BEGIN:VEVENT
DTSTART;TZID=America/Toronto:20240612T160000
DTEND;TZID=America/Toronto:20240612T210000
DTSTAMP:20260419T173442
CREATED:20251118T111520Z
LAST-MODIFIED:20250107T160641Z
UID:10000009-1718208000-1718226000@www.oakbay.ca
SUMMARY:Oak Bay Night Market
DESCRIPTION:Wednesday\, June 12\, 2024 – 4:00pm\nBeginning in June and continuing to September\, between 4:00 and 8:00 pm on the second Wednesday of the month\, Oak Bay Village is transformed into a European style street market. A wide range of fresh and local produce and food is available. Artists and artisans showcase a variety of wares including wood turned bowls\, hand made greeting cards\, glass art\, paper casting\, fabric arts\, jewelry\, toys\, fresh made soaps and cosmetics and preserves. Each market also offers local music\, a magician\, face painting and balloon animals. The stores of Oak Bay merchants are open with special pricing\, tastings\, demos\, sampling and more. \nThe Oak Bay Night Market\, held rain or shine\, is organized by the Oak Bay Business Improvement Association. For more info\, visit the Oak Bay Business Improvement Association website. \nUpcoming Night Markets: \nJune 12\, 2024\nJuly 10\, 2024\nAugust 14\, 2024\nSeptember 11\, 2024
URL:https://www.oakbay.ca/event/oak-bay-night-market/
CATEGORIES:Annual Events
END:VEVENT
BEGIN:VEVENT
DTSTART;TZID=America/Toronto:20231031T140000
DTEND;TZID=America/Toronto:20231031T180000
DTSTAMP:20260419T173442
CREATED:20241118T112023Z
LAST-MODIFIED:20241118T112023Z
UID:10000011-1698760800-1698775200@www.oakbay.ca
SUMMARY:Trick or Treat
DESCRIPTION:Each Halloween\, Oak Bay Village hosts a giant community Trick or Treat! Oak Bay Avenue merchants and the Oak Bay Municipal Hall offer treats in stores from Foul Bay Road to Monterey Avenue. A complete list of participating merchants\, identified by the pumpkin poster in their window\, is posted a week before Halloween on the Oak Business Improvement Association website.
URL:https://www.oakbay.ca/event/trick-or-treat/
LOCATION:Oak Bay Avenue merchants and the Oak Bay Municipal Hall\, 2167 Oak Bay Ave\,\, Victoria\, BC\, V8R 1G2\, Canada
CATEGORIES:Annual Events
END:VEVENT
BEGIN:VEVENT
DTSTART;TZID=America/Toronto:20230813T110000
DTEND;TZID=America/Toronto:20230813T163000
DTSTAMP:20260419T173442
CREATED:20241118T111820Z
LAST-MODIFIED:20241118T111820Z
UID:10000010-1691924400-1691944200@www.oakbay.ca
SUMMARY:Bowker Creek Brush Up
DESCRIPTION:Since 2005\, this fun\, inspiring annual art show hosts 40+ artists displaying\, demonstrating and selling their art. Plan to spend the day strolling along beautiful Bowker Creek\, between Oak Bay High School and Hampshire Road\, listening to music\, enjoying refreshments\, participating in the Community Art project\, and watching demonstrations by featured international Artists. Of course\, there is plenty of opportunity to purchase art for yourself and others. For more information\, visit the Oak Bay Community Artists Society.
URL:https://www.oakbay.ca/event/bowker-creek-brush-up/
LOCATION:Bowker Creek\, between Oak Bay High School and Hampshire Road\, 2121 Cadboro Bay Rd\, Oak Bay\, Greater\, Victoria\, BC\, Victoria\, BC\, V8R 5G4\, Canada
CATEGORIES:Annual Events
ATTACH;FMTTYPE=image/jpeg:https://www.oakbay.ca/wp-content/uploads/2024/11/bowker_creek_brushup.jpeg
END:VEVENT
BEGIN:VEVENT
DTSTART;TZID=America/Toronto:20230722T090000
DTEND;TZID=America/Toronto:20230722T130000
DTSTAMP:20260419T173442
CREATED:20241118T111351Z
LAST-MODIFIED:20241118T111351Z
UID:10000008-1690016400-1690030800@www.oakbay.ca
SUMMARY:GaragelleniumSHARE
DESCRIPTION:The Oak Bay Garagellenium — It’s an uber garage sale\, and easily the biggest in the region! Households in Oak Bay are invited to sign-up and participate. And for those hunting for hidden garage sale treasures\, there are hundreds of sites to peruse. For more information\, visit here
URL:https://www.oakbay.ca/event/garagelleniumshare/
CATEGORIES:Annual Events
ATTACH;FMTTYPE=image/jpeg:https://www.oakbay.ca/wp-content/uploads/2024/11/garagellennium_image.jpeg
END:VEVENT
BEGIN:VEVENT
DTSTART;TZID=America/Toronto:20230601T160000
DTEND;TZID=America/Toronto:20230601T233000
DTSTAMP:20260419T173442
CREATED:20241118T070321Z
LAST-MODIFIED:20241118T070321Z
UID:10000006-1685635200-1685662200@www.oakbay.ca
SUMMARY:Oak Bay Tea Party
DESCRIPTION:The Oak Bay Tea Party is an annual summer event held at Willows Park on the first weekend in June. Activities at this popular family event include an air show\, bathtub race\, parade through Oak Bay\, carnival\, free live music\, raffle draw and so much more. The Oak Bay Tea Party provides a fun-filled weekend for the community and helps to raise funds for service organizations.  To find out more\, visit the Oak Bay Tea Party Society.
URL:https://www.oakbay.ca/event/oak-bay-tea-party/
LOCATION:Willows Park\, CMMW+86 Oak Bay\, British Columbia\, Victoria\, BC\, V8R 2W1\, Canada
CATEGORIES:Annual Events
ATTACH;FMTTYPE=image/jpeg:https://www.oakbay.ca/wp-content/uploads/2024/11/oakbay_tea_party.jpeg
END:VEVENT
BEGIN:VEVENT
DTSTART;TZID=America/Toronto:20230528T190000
DTEND;TZID=America/Toronto:20230528T220000
DTSTAMP:20260419T173442
CREATED:20241118T112255Z
LAST-MODIFIED:20241118T112255Z
UID:10000012-1685300400-1685311200@www.oakbay.ca
SUMMARY:Oak Bay Half Marathon
DESCRIPTION:This annual event has something for all ages and abilities. As well as the main 21.1km event\, there is a 21.1km relay\, a 10km event\, and a 1km run for those under 14 years. For more information\, visit the 1/2 Marathon website. \nNote: To view the 2023 route click here
URL:https://www.oakbay.ca/event/oak-bay-half-marathon/
CATEGORIES:Annual Events
END:VEVENT
END:VCALENDAR