BEGIN:VCALENDAR
VERSION:2.0
PRODID:-//District of Oak Bay - ECPv6.15.18//NONSGML v1.0//EN
CALSCALE:GREGORIAN
METHOD:PUBLISH
X-ORIGINAL-URL:https://www.oakbay.ca
X-WR-CALDESC:Events for District of Oak Bay
REFRESH-INTERVAL;VALUE=DURATION:PT1H
X-Robots-Tag:noindex
X-PUBLISHED-TTL:PT1H
BEGIN:VTIMEZONE
TZID:America/Toronto
BEGIN:DAYLIGHT
TZOFFSETFROM:-0500
TZOFFSETTO:-0400
TZNAME:EDT
DTSTART:20220313T070000
END:DAYLIGHT
BEGIN:STANDARD
TZOFFSETFROM:-0400
TZOFFSETTO:-0500
TZNAME:EST
DTSTART:20221106T060000
END:STANDARD
BEGIN:DAYLIGHT
TZOFFSETFROM:-0500
TZOFFSETTO:-0400
TZNAME:EDT
DTSTART:20230312T070000
END:DAYLIGHT
BEGIN:STANDARD
TZOFFSETFROM:-0400
TZOFFSETTO:-0500
TZNAME:EST
DTSTART:20231105T060000
END:STANDARD
BEGIN:DAYLIGHT
TZOFFSETFROM:-0500
TZOFFSETTO:-0400
TZNAME:EDT
DTSTART:20240310T070000
END:DAYLIGHT
BEGIN:STANDARD
TZOFFSETFROM:-0400
TZOFFSETTO:-0500
TZNAME:EST
DTSTART:20241103T060000
END:STANDARD
END:VTIMEZONE
BEGIN:VEVENT
DTSTART;TZID=America/Toronto:20230813T110000
DTEND;TZID=America/Toronto:20230813T163000
DTSTAMP:20260423T171900
CREATED:20241118T111820Z
LAST-MODIFIED:20241118T111820Z
UID:10000010-1691924400-1691944200@www.oakbay.ca
SUMMARY:Bowker Creek Brush Up
DESCRIPTION:Since 2005\, this fun\, inspiring annual art show hosts 40+ artists displaying\, demonstrating and selling their art. Plan to spend the day strolling along beautiful Bowker Creek\, between Oak Bay High School and Hampshire Road\, listening to music\, enjoying refreshments\, participating in the Community Art project\, and watching demonstrations by featured international Artists. Of course\, there is plenty of opportunity to purchase art for yourself and others. For more information\, visit the Oak Bay Community Artists Society.
URL:https://www.oakbay.ca/event/bowker-creek-brush-up/
LOCATION:Bowker Creek\, between Oak Bay High School and Hampshire Road\, 2121 Cadboro Bay Rd\, Oak Bay\, Greater\, Victoria\, BC\, Victoria\, BC\, V8R 5G4\, Canada
CATEGORIES:Annual Events
ATTACH;FMTTYPE=image/jpeg:https://www.oakbay.ca/wp-content/uploads/2024/11/bowker_creek_brushup.jpeg
END:VEVENT
END:VCALENDAR