BEGIN:VCALENDAR
VERSION:2.0
PRODID:-//District of Oak Bay - ECPv6.15.18//NONSGML v1.0//EN
CALSCALE:GREGORIAN
METHOD:PUBLISH
X-ORIGINAL-URL:https://www.oakbay.ca
X-WR-CALDESC:Events for District of Oak Bay
REFRESH-INTERVAL;VALUE=DURATION:PT1H
X-Robots-Tag:noindex
X-PUBLISHED-TTL:PT1H
BEGIN:VTIMEZONE
TZID:America/Toronto
BEGIN:DAYLIGHT
TZOFFSETFROM:-0500
TZOFFSETTO:-0400
TZNAME:EDT
DTSTART:20250309T070000
END:DAYLIGHT
BEGIN:STANDARD
TZOFFSETFROM:-0400
TZOFFSETTO:-0500
TZNAME:EST
DTSTART:20251102T060000
END:STANDARD
BEGIN:DAYLIGHT
TZOFFSETFROM:-0500
TZOFFSETTO:-0400
TZNAME:EDT
DTSTART:20260308T070000
END:DAYLIGHT
BEGIN:STANDARD
TZOFFSETFROM:-0400
TZOFFSETTO:-0500
TZNAME:EST
DTSTART:20261101T060000
END:STANDARD
BEGIN:DAYLIGHT
TZOFFSETFROM:-0500
TZOFFSETTO:-0400
TZNAME:EDT
DTSTART:20270314T070000
END:DAYLIGHT
BEGIN:STANDARD
TZOFFSETFROM:-0400
TZOFFSETTO:-0500
TZNAME:EST
DTSTART:20271107T060000
END:STANDARD
END:VTIMEZONE
BEGIN:VEVENT
DTSTART;VALUE=DATE:20260524
DTEND;VALUE=DATE:20260525
DTSTAMP:20260422T112555
CREATED:20260305T222725Z
LAST-MODIFIED:20260305T222725Z
UID:10000231-1779580800-1779667199@www.oakbay.ca
SUMMARY:Oak Bay Half Marathon
DESCRIPTION:Race Day Schedule\n\n\n\n\n\nSunday\, May 24\, 2026\n7:00 am – Half Early Start (for anyone taking longer than 2:45)\n8:00 am – Half\, Relay & 10K\n10:30 am – Dairyland Kids 1k\n\n\n\n\n\nEvery finisher of the half-marathon\, 10k & relay will receive a souvenir medal. Kids run finishers will receive finisher ribbon. \nView the route map
URL:https://www.oakbay.ca/event/oak-bay-half-marathon-3/
CATEGORIES:Upcoming Special Events
END:VEVENT
END:VCALENDAR