BEGIN:VCALENDAR
VERSION:2.0
PRODID:-//District of Oak Bay - ECPv6.15.18//NONSGML v1.0//EN
CALSCALE:GREGORIAN
METHOD:PUBLISH
X-ORIGINAL-URL:https://www.oakbay.ca
X-WR-CALDESC:Events for District of Oak Bay
REFRESH-INTERVAL;VALUE=DURATION:PT1H
X-Robots-Tag:noindex
X-PUBLISHED-TTL:PT1H
BEGIN:VTIMEZONE
TZID:America/Toronto
BEGIN:DAYLIGHT
TZOFFSETFROM:-0500
TZOFFSETTO:-0400
TZNAME:EDT
DTSTART:20250309T070000
END:DAYLIGHT
BEGIN:STANDARD
TZOFFSETFROM:-0400
TZOFFSETTO:-0500
TZNAME:EST
DTSTART:20251102T060000
END:STANDARD
BEGIN:DAYLIGHT
TZOFFSETFROM:-0500
TZOFFSETTO:-0400
TZNAME:EDT
DTSTART:20260308T070000
END:DAYLIGHT
BEGIN:STANDARD
TZOFFSETFROM:-0400
TZOFFSETTO:-0500
TZNAME:EST
DTSTART:20261101T060000
END:STANDARD
BEGIN:DAYLIGHT
TZOFFSETFROM:-0500
TZOFFSETTO:-0400
TZNAME:EDT
DTSTART:20270314T070000
END:DAYLIGHT
BEGIN:STANDARD
TZOFFSETFROM:-0400
TZOFFSETTO:-0500
TZNAME:EST
DTSTART:20271107T060000
END:STANDARD
END:VTIMEZONE
BEGIN:VEVENT
DTSTART;TZID=America/Toronto:20260422T130000
DTEND;TZID=America/Toronto:20260422T143000
DTSTAMP:20260421T184434
CREATED:20260331T211833Z
LAST-MODIFIED:20260420T225126Z
UID:10000332-1776862800-1776868200@www.oakbay.ca
SUMMARY:Free Talks: Making the Most of Your Memories
DESCRIPTION:Making the Most of Your Memories \nWednesday\, April 22 | 1:00 p.m. to 2:30 p.m. \nLocation: Monterey Recreation Centre – Dogwood Room \nGuest Speaker: Shana Lee Gibson\, Documentary Filmmaker\, Visual Strategist and Writer \nMeet Shana Lee Gibson\, an award-winning documentary filmmaker\, storyteller\, and writer. her passion is to create inspiring\, customized videos that tell your story with honesty\, warmth\, and joy. Discover how preserving your favourite memories on video can help create a lasting legacy for your loved ones to enjoy. \nAdvance registration required\, please contact Reception 250-370-7300
URL:https://www.oakbay.ca/event/free-talks-making-the-most-of-your-memories/
LOCATION:Monterey Recreation Centre\, 1442 Monterey Avenue\, Victoria\, BC\, Oak Bay\, British Columbia\, Canada
CATEGORIES:Parks, Recreation & Culture Events
ATTACH;FMTTYPE=image/jpeg:https://www.oakbay.ca/wp-content/uploads/2025/03/Monterey-Centre-Oak-Bay-Rec-May-22-2024-©KevinLightPhoto-_EV29522.jpg
END:VEVENT
BEGIN:VEVENT
DTSTART;TZID=America/Toronto:20260422T150000
DTEND;TZID=America/Toronto:20260422T170000
DTSTAMP:20260421T184434
CREATED:20260309T162853Z
LAST-MODIFIED:20260309T162938Z
UID:10000257-1776870000-1776877200@www.oakbay.ca
SUMMARY:Middle School Days at the Oak Bay Youth Centre
DESCRIPTION:Middle School Days at the Oak Bay Youth Centre \n\nWednesdays\, 3:00 to 5:00 p.m.\nNeighbourhood Learning Centre (2121 Cadboro Bay Rd) \nA safe\, supervised\, and welcoming after‑school drop‑in just for middle school students. Kids can play games\, meet friends\, or relax in a supportive space at no cost and with no registration required.
URL:https://www.oakbay.ca/event/middle-school-days-at-the-oak-bay-youth-centre/2026-04-22/
LOCATION:Oak Bay Youth Centre\, 2121 Cadboro Bay Rd\, Victoria\, BC\, Canada
CATEGORIES:Parks, Recreation & Culture Events
ATTACH;FMTTYPE=image/jpeg:https://www.oakbay.ca/wp-content/uploads/2026/03/Youth-Leaders-Oak-Bay-Rec-July-2021-©KevinLightPhoto-_90I3264-2.jpg
END:VEVENT
END:VCALENDAR