BEGIN:VCALENDAR
VERSION:2.0
PRODID:-//District of Oak Bay - ECPv6.15.18//NONSGML v1.0//EN
CALSCALE:GREGORIAN
METHOD:PUBLISH
X-WR-CALNAME:District of Oak Bay
X-ORIGINAL-URL:https://www.oakbay.ca
X-WR-CALDESC:Events for District of Oak Bay
REFRESH-INTERVAL;VALUE=DURATION:PT1H
X-Robots-Tag:noindex
X-PUBLISHED-TTL:PT1H
BEGIN:VTIMEZONE
TZID:America/Toronto
BEGIN:DAYLIGHT
TZOFFSETFROM:-0500
TZOFFSETTO:-0400
TZNAME:EDT
DTSTART:20250309T070000
END:DAYLIGHT
BEGIN:STANDARD
TZOFFSETFROM:-0400
TZOFFSETTO:-0500
TZNAME:EST
DTSTART:20251102T060000
END:STANDARD
BEGIN:DAYLIGHT
TZOFFSETFROM:-0500
TZOFFSETTO:-0400
TZNAME:EDT
DTSTART:20260308T070000
END:DAYLIGHT
BEGIN:STANDARD
TZOFFSETFROM:-0400
TZOFFSETTO:-0500
TZNAME:EST
DTSTART:20261101T060000
END:STANDARD
BEGIN:DAYLIGHT
TZOFFSETFROM:-0500
TZOFFSETTO:-0400
TZNAME:EDT
DTSTART:20270314T070000
END:DAYLIGHT
BEGIN:STANDARD
TZOFFSETFROM:-0400
TZOFFSETTO:-0500
TZNAME:EST
DTSTART:20271107T060000
END:STANDARD
END:VTIMEZONE
BEGIN:VEVENT
DTSTART;VALUE=DATE:20260314
DTEND;VALUE=DATE:20260330
DTSTAMP:20260421T170708
CREATED:20260306T181248Z
LAST-MODIFIED:20260330T171130Z
UID:10000232-1773446400-1774828799@www.oakbay.ca
SUMMARY:Spring Break Schedule in Effect (2026)
DESCRIPTION:Looking for activities over Spring Break\, March 14-29\, 2026? Join us at Oak Bay Recreation! \nSpring Break Flyer \nVisit the Drop-in Schedule page for Spring Break sessions.
URL:https://www.oakbay.ca/event/spring-break-schedule-in-effect-2026/
CATEGORIES:Parks, Recreation & Culture Events
ATTACH;FMTTYPE=image/jpeg:https://www.oakbay.ca/wp-content/uploads/2026/03/Junior_Lifeguard_Camp_Oak_Bay_Rec__KRL-2025-07-31-02992-1-scaled.jpg
END:VEVENT
END:VCALENDAR