BEGIN:VCALENDAR
VERSION:2.0
PRODID:-//District of Oak Bay - ECPv6.15.18//NONSGML v1.0//EN
CALSCALE:GREGORIAN
METHOD:PUBLISH
X-WR-CALNAME:District of Oak Bay
X-ORIGINAL-URL:https://www.oakbay.ca
X-WR-CALDESC:Events for District of Oak Bay
REFRESH-INTERVAL;VALUE=DURATION:PT1H
X-Robots-Tag:noindex
X-PUBLISHED-TTL:PT1H
BEGIN:VTIMEZONE
TZID:America/Toronto
BEGIN:DAYLIGHT
TZOFFSETFROM:-0500
TZOFFSETTO:-0400
TZNAME:EDT
DTSTART:20250309T070000
END:DAYLIGHT
BEGIN:STANDARD
TZOFFSETFROM:-0400
TZOFFSETTO:-0500
TZNAME:EST
DTSTART:20251102T060000
END:STANDARD
BEGIN:DAYLIGHT
TZOFFSETFROM:-0500
TZOFFSETTO:-0400
TZNAME:EDT
DTSTART:20260308T070000
END:DAYLIGHT
BEGIN:STANDARD
TZOFFSETFROM:-0400
TZOFFSETTO:-0500
TZNAME:EST
DTSTART:20261101T060000
END:STANDARD
BEGIN:DAYLIGHT
TZOFFSETFROM:-0500
TZOFFSETTO:-0400
TZNAME:EDT
DTSTART:20270314T070000
END:DAYLIGHT
BEGIN:STANDARD
TZOFFSETFROM:-0400
TZOFFSETTO:-0500
TZNAME:EST
DTSTART:20271107T060000
END:STANDARD
END:VTIMEZONE
BEGIN:VEVENT
DTSTART;VALUE=DATE:20260515
DTEND;VALUE=DATE:20260517
DTSTAMP:20260425T180455
CREATED:20260424T215624Z
LAST-MODIFIED:20260424T220852Z
UID:28728-1778803200-1778975999@www.oakbay.ca
SUMMARY:Victoria Spring Mixed Doubles Tennis Tournament
DESCRIPTION:Victoria Spring Mixed Doubles Tournament \n\nMay 15 to 17\, 2026 \nCompass Draw format\, everyone is guaranteed 3 to 4 matches\, with the final round being your best match‑up. \nRegistration via Tennis BC:\nhttps://www.tennisbc.org/tournaments/
URL:https://www.oakbay.ca/event/victoria-spring-mixed-doubles-tennis-tournament/
LOCATION:Oak Bay Recreation Centre\, 1975 Bee Street\, Oak Bay\, British Columbia\, Canada
CATEGORIES:Parks, Recreation & Culture Events
ATTACH;FMTTYPE=image/jpeg:https://www.oakbay.ca/wp-content/uploads/2026/04/Tennis-Oak-Bay-Nov-29-2022-©KevinLightPhoto-_RL_9449.jpg
END:VEVENT
END:VCALENDAR