BEGIN:VCALENDAR
VERSION:2.0
PRODID:-//District of Oak Bay - ECPv6.15.18//NONSGML v1.0//EN
CALSCALE:GREGORIAN
METHOD:PUBLISH
X-WR-CALNAME:District of Oak Bay
X-ORIGINAL-URL:https://www.oakbay.ca
X-WR-CALDESC:Events for District of Oak Bay
REFRESH-INTERVAL;VALUE=DURATION:PT1H
X-Robots-Tag:noindex
X-PUBLISHED-TTL:PT1H
BEGIN:VTIMEZONE
TZID:America/Toronto
BEGIN:DAYLIGHT
TZOFFSETFROM:-0500
TZOFFSETTO:-0400
TZNAME:EDT
DTSTART:20250309T070000
END:DAYLIGHT
BEGIN:STANDARD
TZOFFSETFROM:-0400
TZOFFSETTO:-0500
TZNAME:EST
DTSTART:20251102T060000
END:STANDARD
BEGIN:DAYLIGHT
TZOFFSETFROM:-0500
TZOFFSETTO:-0400
TZNAME:EDT
DTSTART:20260308T070000
END:DAYLIGHT
BEGIN:STANDARD
TZOFFSETFROM:-0400
TZOFFSETTO:-0500
TZNAME:EST
DTSTART:20261101T060000
END:STANDARD
BEGIN:DAYLIGHT
TZOFFSETFROM:-0500
TZOFFSETTO:-0400
TZNAME:EDT
DTSTART:20270314T070000
END:DAYLIGHT
BEGIN:STANDARD
TZOFFSETFROM:-0400
TZOFFSETTO:-0500
TZNAME:EST
DTSTART:20271107T060000
END:STANDARD
END:VTIMEZONE
BEGIN:VEVENT
DTSTART;VALUE=DATE:20260510
DTEND;VALUE=DATE:20260511
DTSTAMP:20260425T180546
CREATED:20260424T221010Z
LAST-MODIFIED:20260424T221023Z
UID:28737-1778371200-1778457599@www.oakbay.ca
SUMMARY:Oak Bay First Set Rookie Tour: Tennis Tournament
DESCRIPTION:Oak Bay First Set Rookie Tour \n\nMay 10 \nRookie Tour event for junior players. Events offered include U10 Orange Ball\, U12 Green Ball\, U14 Yellow Ball\, and U16 Yellow Ball. \nRegistration\nRegistration opens April 23.\nRegistration deadline April 30. \nRegistration via Tennis BC:\nhttps://www.tennisbc.org/tournaments/ \nTennis BC Membership Requirement\nPlayers must have a Tennis BC recreational membership which is free. Instructions for setting up a membership are available through Tennis BC. After creating an account\, email a piece of photo ID such as a passport to sly@tennisbc.org for age verification. Accounts will remain pending until age verification is complete. \nTrouble registering? Contact Sue Lam at slam@tennisbc.org. \nMore information\nhttps://www.tennisbc.org/tournaments/
URL:https://www.oakbay.ca/event/oak-bay-first-set-rookie-tour-tennis-tournament/
LOCATION:Oak Bay Recreation Centre\, 1975 Bee Street\, Oak Bay\, British Columbia\, Canada
CATEGORIES:Parks, Recreation & Culture Events
ATTACH;FMTTYPE=image/jpeg:https://www.oakbay.ca/wp-content/uploads/2026/04/Tennis-Oak-Bay-Nov-29-2022-©KevinLightPhoto-_RL_9449.jpg
END:VEVENT
END:VCALENDAR