BEGIN:VCALENDAR
VERSION:2.0
PRODID:-//District of Oak Bay - ECPv6.15.18//NONSGML v1.0//EN
CALSCALE:GREGORIAN
METHOD:PUBLISH
X-WR-CALNAME:District of Oak Bay
X-ORIGINAL-URL:https://www.oakbay.ca
X-WR-CALDESC:Events for District of Oak Bay
REFRESH-INTERVAL;VALUE=DURATION:PT1H
X-Robots-Tag:noindex
X-PUBLISHED-TTL:PT1H
BEGIN:VTIMEZONE
TZID:America/Toronto
BEGIN:DAYLIGHT
TZOFFSETFROM:-0500
TZOFFSETTO:-0400
TZNAME:EDT
DTSTART:20240310T070000
END:DAYLIGHT
BEGIN:STANDARD
TZOFFSETFROM:-0400
TZOFFSETTO:-0500
TZNAME:EST
DTSTART:20241103T060000
END:STANDARD
BEGIN:DAYLIGHT
TZOFFSETFROM:-0500
TZOFFSETTO:-0400
TZNAME:EDT
DTSTART:20250309T070000
END:DAYLIGHT
BEGIN:STANDARD
TZOFFSETFROM:-0400
TZOFFSETTO:-0500
TZNAME:EST
DTSTART:20251102T060000
END:STANDARD
BEGIN:DAYLIGHT
TZOFFSETFROM:-0500
TZOFFSETTO:-0400
TZNAME:EDT
DTSTART:20260308T070000
END:DAYLIGHT
BEGIN:STANDARD
TZOFFSETFROM:-0400
TZOFFSETTO:-0500
TZNAME:EST
DTSTART:20261101T060000
END:STANDARD
END:VTIMEZONE
BEGIN:VEVENT
DTSTART;TZID=America/Toronto:20250702T080000
DTEND;TZID=America/Toronto:20250804T220000
DTSTAMP:20260421T153400
CREATED:20250416T155626Z
LAST-MODIFIED:20250623T151957Z
UID:22094-1751443200-1754344800@www.oakbay.ca
SUMMARY:Monterey Recreation Centre Closure 2025
DESCRIPTION:Monterey Recreation Centre Closure \nClosure Dates: July 2 to August 4\, 2025 \nMonterey Recreation Centre will be closed for facility renovations and updates. The Recreation Centre will reopen on August 5. We’re excited for a fully updated Reception centre\, new kitchen flooring and other necessary updates to the facility. Please note that the Recreation Centre will not be accessible to the public during the closure. For alternate fitness classes in Oak Bay\, please see the Drop-in Fitness Schedule on our website. \nPlease Note: \n\nMembers with an active Social Activity Membership at the time of the facility closure will receive an extension in membership for the length of the closure.\nOak Bay Public Library & Oak Bay Volunteer Services will be open during the facility closure.\n\n 
URL:https://www.oakbay.ca/event/monterey-recreation-centre-closure/
LOCATION:Monterey Recreation Centre\, 1442 Monterey Avenue\, Victoria\, BC\, Oak Bay\, British Columbia\, Canada
CATEGORIES:Home Featured 2
ATTACH;FMTTYPE=image/jpeg:https://www.oakbay.ca/wp-content/uploads/2025/03/MontereyRecCentre-FeaturedEventImage-e1741286273240.jpg
END:VEVENT
END:VCALENDAR